BEGIN:VCALENDAR
VERSION:2.0
PRODID:-//Kite Hill Vineyards - ECPv6.15.20//NONSGML v1.0//EN
CALSCALE:GREGORIAN
METHOD:PUBLISH
X-WR-CALNAME:Kite Hill Vineyards
X-ORIGINAL-URL:https://kitehillvineyards.com
X-WR-CALDESC:Events for Kite Hill Vineyards
REFRESH-INTERVAL;VALUE=DURATION:PT1H
X-Robots-Tag:noindex
X-PUBLISHED-TTL:PT1H
BEGIN:VTIMEZONE
TZID:UTC
BEGIN:STANDARD
TZOFFSETFROM:+0000
TZOFFSETTO:+0000
TZNAME:UTC
DTSTART:20200101T000000
END:STANDARD
END:VTIMEZONE
BEGIN:VTIMEZONE
TZID:America/New_York
BEGIN:DAYLIGHT
TZOFFSETFROM:-0500
TZOFFSETTO:-0400
TZNAME:EDT
DTSTART:20210314T070000
END:DAYLIGHT
BEGIN:STANDARD
TZOFFSETFROM:-0400
TZOFFSETTO:-0500
TZNAME:EST
DTSTART:20211107T060000
END:STANDARD
BEGIN:DAYLIGHT
TZOFFSETFROM:-0500
TZOFFSETTO:-0400
TZNAME:EDT
DTSTART:20220313T070000
END:DAYLIGHT
BEGIN:STANDARD
TZOFFSETFROM:-0400
TZOFFSETTO:-0500
TZNAME:EST
DTSTART:20221106T060000
END:STANDARD
BEGIN:DAYLIGHT
TZOFFSETFROM:-0500
TZOFFSETTO:-0400
TZNAME:EDT
DTSTART:20230312T070000
END:DAYLIGHT
BEGIN:STANDARD
TZOFFSETFROM:-0400
TZOFFSETTO:-0500
TZNAME:EST
DTSTART:20231105T060000
END:STANDARD
END:VTIMEZONE
BEGIN:VEVENT
DTSTART;TZID=UTC:20220323T150000
DTEND;TZID=UTC:20220323T190000
DTSTAMP:20260424T103049
CREATED:20220312T164459Z
LAST-MODIFIED:20220312T164459Z
UID:4706-1648047600-1648062000@kitehillvineyards.com
SUMMARY:WINE DOWN WEDNESDAY
DESCRIPTION:Join us for 1/2 price glasses of our award-winning wines and ever-popular wine slushies.  Come wine down with us!
URL:https://kitehillvineyards.com/event/wine-down-wednesday-5/
LOCATION:Kite Hill Vineyards\, 100 Tasting Room Road\, Carbondale\, IL\, 62903\, United States
ATTACH;FMTTYPE=image/png:https://kitehillvineyards.com/wp-content/uploads/2022/03/Wine-down-Wednesdays.png
END:VEVENT
BEGIN:VEVENT
DTSTART;TZID=America/New_York:20220319T180000
DTEND;TZID=America/New_York:20220319T210000
DTSTAMP:20260424T103049
CREATED:20220312T162643Z
LAST-MODIFIED:20220312T162643Z
UID:4699-1647712800-1647723600@kitehillvineyards.com
SUMMARY:Annual Wine & Craft Beer Tasting - Salem Community Center
DESCRIPTION:Salem’s annual tasting event includes options for wines and beers\, food trucks\, craft vendors\, music\, a commemorative tasting glass\, and more!
URL:https://kitehillvineyards.com/event/annual-wine-craft-beer-tasting-salem-community-center/
LOCATION:Salem Community Cener\, 416 Oglesby Drive\, Salem\, IL\, 62881\, United States
END:VEVENT
BEGIN:VEVENT
DTSTART;TZID=America/New_York:20220316T150000
DTEND;TZID=America/New_York:20220316T190000
DTSTAMP:20260424T103049
CREATED:20220312T164310Z
LAST-MODIFIED:20220312T164310Z
UID:4703-1647442800-1647457200@kitehillvineyards.com
SUMMARY:WINE DOWN WEDNESDAY
DESCRIPTION:Join us for 1/2 price glasses of our award-winning wines and ever-popular wine slushies.  Come wine down with us!
URL:https://kitehillvineyards.com/event/wine-down-wednesday-4/
LOCATION:Kite Hill Vineyards\, 100 Tasting Room Road\, Carbondale\, IL\, 62903\, United States
ATTACH;FMTTYPE=image/png:https://kitehillvineyards.com/wp-content/uploads/2022/03/Wine-down-Wednesdays.png
END:VEVENT
BEGIN:VEVENT
DTSTART;TZID=UTC:20211103T150000
DTEND;TZID=UTC:20211103T190000
DTSTAMP:20260424T103049
CREATED:20211013T163144Z
LAST-MODIFIED:20211013T163144Z
UID:3964-1635951600-1635966000@kitehillvineyards.com
SUMMARY:Wine Down Wednesday
DESCRIPTION:Wednesdays are time to Wine Down!  \nEvery Wednesday\, 3-7 p.m.\, all glasses are 1/2 price. \nBecause half the price is twice as nice!
URL:https://kitehillvineyards.com/event/wine-down-wednesday-3/
LOCATION:Kite Hill Vineyards\, 100 Tasting Room Road\, Carbondale\, IL\, 62903\, United States
CATEGORIES:Event
END:VEVENT
BEGIN:VEVENT
DTSTART;TZID=UTC:20211027T150000
DTEND;TZID=UTC:20211027T190000
DTSTAMP:20260424T103049
CREATED:20211013T163019Z
LAST-MODIFIED:20211013T163107Z
UID:3962-1635346800-1635361200@kitehillvineyards.com
SUMMARY:Wine Down Wednesday
DESCRIPTION:Wednesdays are time to Wine Down!  \nEvery Wednesday\, 3-7 p.m.\, all glasses are 1/2 price. \nBecause half the price is twice as nice!
URL:https://kitehillvineyards.com/event/wine-down-wednesday-2/
LOCATION:Kite Hill Vineyards\, 100 Tasting Room Road\, Carbondale\, IL\, 62903\, United States
CATEGORIES:Event
END:VEVENT
BEGIN:VEVENT
DTSTART;TZID=UTC:20211020T150000
DTEND;TZID=UTC:20211020T190000
DTSTAMP:20260424T103049
CREATED:20211013T162038Z
LAST-MODIFIED:20211013T162959Z
UID:3954-1634742000-1634756400@kitehillvineyards.com
SUMMARY:Wine Down Wednesday
DESCRIPTION:Wednesdays are time to Wine Down!  \nEvery Wednesday\, 3-7 p.m.\, all glasses are 1/2 price. \nBecause half the price is twice as nice!
URL:https://kitehillvineyards.com/event/wine-down-wednesday/
LOCATION:Kite Hill Vineyards\, 100 Tasting Room Road\, Carbondale\, IL\, 62903\, United States
CATEGORIES:Event
END:VEVENT
END:VCALENDAR